BEGIN:VCALENDAR
VERSION:2.0
PRODID:-//St. Macarius Monastery - ECPv6.15.20//NONSGML v1.0//EN
CALSCALE:GREGORIAN
METHOD:PUBLISH
X-WR-CALNAME:St. Macarius Monastery
X-ORIGINAL-URL:https://www.stmacariusoca.org
X-WR-CALDESC:Events for St. Macarius Monastery
REFRESH-INTERVAL;VALUE=DURATION:PT1H
X-Robots-Tag:noindex
X-PUBLISHED-TTL:PT1H
BEGIN:VTIMEZONE
TZID:UTC
BEGIN:STANDARD
TZOFFSETFROM:+0000
TZOFFSETTO:+0000
TZNAME:UTC
DTSTART:20190101T000000
END:STANDARD
END:VTIMEZONE
BEGIN:VEVENT
DTSTART;TZID=UTC:20200205T080000
DTEND;TZID=UTC:20200205T170000
DTSTAMP:20260422T190209
CREATED:20161209T155517Z
LAST-MODIFIED:20161209T155517Z
UID:1035-1580889600-1580922000@www.stmacariusoca.org
SUMMARY:How to engage in Church Charities
DESCRIPTION:Judge me\, Yahweh\, for I have walked in my integrity. I have trusted also in Yahweh without wavering. Examine me\, Yahweh\, and prove me. Try my heart and my mind. For your loving kindness is before my eyes. I have walked in your truth. I have not sat with deceitful men\, neither will I go in with hypocrites. I hate the assembly of evildoers\, and will not sit with the wicked. I will wash my hands in innocence\, so I will go about your altar\, Yahweh; that I may make the voice of thanksgiving to be heard\, and tell of all your wondrous works. Yahweh\, I love the habitation of your house\, the place where your glory dwells. Don’t gather my soul with sinners\, nor my life with bloodthirsty men; in whose hands is wickedness\, their right hand is full of bribes. But as for me\, I will walk in my integrity. Redeem me\, and be merciful to me. My foot stands in an even place. In the congregations I will bless Yahweh.
URL:https://www.stmacariusoca.org/event/how-to-engage-in-church-charities/
CATEGORIES:Fundraising Gathering
ATTACH;FMTTYPE=image/jpeg:https://www.stmacariusoca.org/wp-content/uploads/2020/06/divinity-04-400x400-1.jpg
END:VEVENT
BEGIN:VEVENT
DTSTART;TZID=UTC:20200202T080000
DTEND;TZID=UTC:20200202T170000
DTSTAMP:20260422T190209
CREATED:20161209T163413Z
LAST-MODIFIED:20161209T163413Z
UID:1032-1580630400-1580662800@www.stmacariusoca.org
SUMMARY:Feed your Soul\, pray with your Heart.
DESCRIPTION:Praise waits for you\, God\, in Zion. To you shall vows be performed. You who hear prayer\, to you all men will come. Sins overwhelmed me\, but you atoned for our transgressions. Blessed is one whom you choose\, and cause to come near\, that he may live in your courts. We will be filled with the goodness of your house\, your holy temple. By awesome deeds of righteousness\, you answer us\, God of our salvation. You who are the hope of all the ends of the earth\, of those who are far away on the sea; Who by his power forms the mountains\, having armed yourself with strength; who stills the roaring of the seas\, the roaring of their waves\, and the turmoil of the nations. They also who dwell in faraway places are afraid at your wonders. You call the morning’s dawn and the evening with songs of joy. You visit the earth\, and water it. You greatly enrich it. The river of God is full of water. You provide them grain\, for so you have ordained it. You drench its furrows. You level its ridges. You soften it with showers. You bless it with a crop. You crown the year with your bounty. Your carts overflow with abundance. The wilderness grasslands overflow. The hills are clothed with gladness. The pastures are covered with flocks. The valleys also are clothed with grain. They shout for joy! They also sing.
URL:https://www.stmacariusoca.org/event/feed-your-soul-pray-with-your-heart/
CATEGORIES:Preaching Events
ATTACH;FMTTYPE=image/jpeg:https://www.stmacariusoca.org/wp-content/uploads/2020/06/divinity-05-400x400-1.jpg
END:VEVENT
BEGIN:VEVENT
DTSTART;TZID=UTC:20200131T080000
DTEND;TZID=UTC:20200131T170000
DTSTAMP:20260422T190209
CREATED:20161209T141955Z
LAST-MODIFIED:20161209T141955Z
UID:1041-1580457600-1580490000@www.stmacariusoca.org
SUMMARY:Jesus' Guidance Towards Faith
DESCRIPTION:Ascribe to Yahweh\, you sons of the mighty\, ascribe to Yahweh glory and strength. Ascribe to Yahweh the glory due to his name. Worship Yahweh in holy array. Yahweh’s voice is on the waters. The God of glory thunders\, even Yahweh on many waters. Yahweh’s voice is powerful. Yahweh’s voice is full of majesty. The voice of Yahweh breaks the cedars. Yes\, Yahweh breaks in pieces the cedars of Lebanon. He makes them also to skip like a calf; Lebanon and Sirion like a young\, wild ox. Yahweh’s voice strikes with flashes of lightning. Yahweh’s voice shakes the wilderness. Yahweh shakes the wilderness of Kadesh. Yahweh’s voice makes the deer calve\, and strips the forests bare. In his temple everything says\, «Glory!» Yahweh sat enthroned at the Flood. Yes\, Yahweh sits as King forever. Yahweh will give strength to his people. Yahweh will bless his people with peace.
URL:https://www.stmacariusoca.org/event/jesus-guidance-towards-faith/
CATEGORIES:Fundraising Gathering
ATTACH;FMTTYPE=image/jpeg:https://www.stmacariusoca.org/wp-content/uploads/2020/06/divinity-06-400x400-1.jpg
END:VEVENT
BEGIN:VEVENT
DTSTART;VALUE=DATE:20200123
DTEND;VALUE=DATE:20200124
DTSTAMP:20260422T190209
CREATED:20161209T135423Z
LAST-MODIFIED:20161209T135423Z
UID:1045-1579737600-1579823999@www.stmacariusoca.org
SUMMARY:The Blood of the Martyrs Is Seed
DESCRIPTION:Whatever he does shall prosper. The wicked are not so\, but are like the chaff which the wind drives away. Therefore the wicked shall not stand in the judgment\, nor sinners in the congregation of the righteous. For Yahweh knows the way of the righteous\, but the way of the wicked shall perish. He will be like a tree planted by the streams of water\, that brings forth its fruit in its season\, whose leaf also does not wither.
URL:https://www.stmacariusoca.org/event/the-blood-of-the-martyrs-is-seed/
CATEGORIES:Fundraising Gathering
ATTACH;FMTTYPE=image/jpeg:https://www.stmacariusoca.org/wp-content/uploads/2020/06/divinity-09-400x400-1.jpg
END:VEVENT
BEGIN:VEVENT
DTSTART;TZID=UTC:20200121T080000
DTEND;TZID=UTC:20200121T170000
DTSTAMP:20260422T190209
CREATED:20161209T142128Z
LAST-MODIFIED:20161209T142128Z
UID:1040-1579593600-1579626000@www.stmacariusoca.org
SUMMARY:Virgin Mary's Story
DESCRIPTION:Have mercy on me\, God\, according to your loving kindness. According to the multitude of your tender mercies\, blot out my transgressions. Wash me thoroughly from my iniquity. Cleanse me from my sin. For I know my transgressions. My sin is constantly before me. Against you\, and you only\, have I sinned\, and done that which is evil in your sight; that you may be proved right when you speak\, and justified when you judge. Behold\, I was brought forth in iniquity. In sin my mother conceived me. Behold\, you desire truth in the inward parts. You teach me wisdom in the inmost place. Purify me with hyssop\, and I will be clean. Wash me\, and I will be whiter than snow. Let me hear joy and gladness\, That the bones which you have broken may rejoice. Hide your face from my sins\, and blot out all of my iniquities. Create in me a clean heart\, O God. Renew a right spirit within me. Don’t throw me from your presence\, and don’t take your holy Spirit from me. Restore to me the joy of your salvation. Uphold me with a willing spirit. Then I will teach transgressors your ways. Sinners shall be converted to you. Deliver me from bloodguiltiness\, O God\, the God of my salvation. My tongue shall sing aloud of your righteousness. LORD\, open my lips. My mouth shall declare your praise. For you don’t delight in sacrifice\, or else I would give it. You have no pleasure in burnt offering. The sacrifices of God are a broken spirit. A broken and contrite heart\, O God\, you will not despise. Do well in your good pleasure to Zion. Build the walls of Jerusalem. Then you will delight in the sacrifices of righteousness\, in burnt offerings and in whole burnt offerings. Then they will offer bulls on your altar.
URL:https://www.stmacariusoca.org/event/virgin-marys-story/
CATEGORIES:Collective Praying
ATTACH;FMTTYPE=image/jpeg:https://www.stmacariusoca.org/wp-content/uploads/2020/06/divinity-05-400x400-1.jpg
END:VEVENT
BEGIN:VEVENT
DTSTART;TZID=UTC:20200109T080000
DTEND;TZID=UTC:20200109T170000
DTSTAMP:20260422T190209
CREATED:20160209T144324Z
LAST-MODIFIED:20160209T144324Z
UID:1080-1578556800-1578589200@www.stmacariusoca.org
SUMMARY:Using Faith in our life to advance.
DESCRIPTION:Praise Yah! Praise Yahweh\, my soul. While I live\, I will praise Yahweh. I will sing praises to my God as long as I exist. Don’t put your trust in princes\, each a son of man in whom there is no help. His spirit departs\, and he returns to the earth. In that very day\, his thoughts perish. Happy is he who has the God of Jacob for his help\, whose hope is in Yahweh\, his God: who made heaven and earth\, the sea\, and all that is in them; who keeps truth forever; who executes justice for the oppressed; who gives food to the hungry. Yahweh frees the prisoners. Yahweh opens the eyes of the blind. Yahweh raises up those who are bowed down. Yahweh loves the righteous. Yahweh preserves the foreigners. He upholds the fatherless and widow\, but the way of the wicked he turns upside down. Yahweh will reign forever; your God\, O Zion\, to all generations. Praise Yah!
URL:https://www.stmacariusoca.org/event/using-faith-in-our-life-to-advance/
CATEGORIES:Preaching Events
ATTACH;FMTTYPE=image/jpeg:https://www.stmacariusoca.org/wp-content/uploads/2020/06/divinity-09-400x400-1.jpg
END:VEVENT
END:VCALENDAR